BEGIN:VCALENDAR
VERSION:2.0
PRODID:-//Základní škola Velký Ořechov - ECPv6.2.4//NONSGML v1.0//EN
CALSCALE:GREGORIAN
METHOD:PUBLISH
X-WR-CALNAME:Základní škola Velký Ořechov
X-ORIGINAL-URL:https://www.zsvelkyorechov.cz
X-WR-CALDESC:Akce na Základní škola Velký Ořechov
REFRESH-INTERVAL;VALUE=DURATION:PT1H
X-Robots-Tag:noindex
X-PUBLISHED-TTL:PT1H
BEGIN:VTIMEZONE
TZID:Europe/Prague
BEGIN:DAYLIGHT
TZOFFSETFROM:+0100
TZOFFSETTO:+0200
TZNAME:CEST
DTSTART:20260329T010000
END:DAYLIGHT
BEGIN:STANDARD
TZOFFSETFROM:+0200
TZOFFSETTO:+0100
TZNAME:CET
DTSTART:20261025T010000
END:STANDARD
END:VTIMEZONE
BEGIN:VEVENT
DTSTART;TZID=Europe/Prague:20260202T080000
DTEND;TZID=Europe/Prague:20260206T170000
DTSTAMP:20260419T172434
CREATED:20251113T143138Z
LAST-MODIFIED:20251113T143138Z
UID:16889-1770019200-1770397200@www.zsvelkyorechov.cz
SUMMARY:Lyžařský výcvikový kurz
DESCRIPTION:7. – 8. ročník
URL:https://www.zsvelkyorechov.cz/akce/lyzarsky-vycvikovy-kurz-5/
LOCATION:Loučná nad Desnou
ATTACH;FMTTYPE=image/jpeg:https://www.zsvelkyorechov.cz/wp-content/uploads/2025/02/LVK-2025-18.jpg
ORGANIZER;CN="Z%C5%A0 Velk%C3%BD O%C5%99echov":MAILTO:info@zsvelkyorechov.cz
END:VEVENT
BEGIN:VEVENT
DTSTART;TZID=Europe/Prague:20260203T090000
DTEND;TZID=Europe/Prague:20260203T140000
DTSTAMP:20260419T172434
CREATED:20260129T192453Z
LAST-MODIFIED:20260129T192453Z
UID:17152-1770109200-1770127200@www.zsvelkyorechov.cz
SUMMARY:Mladý ekonom
DESCRIPTION:vybraní žáci 8. a 9. ročníku
URL:https://www.zsvelkyorechov.cz/akce/mlady-ekonom/
LOCATION:ZLín
ATTACH;FMTTYPE=image/jpeg:https://www.zsvelkyorechov.cz/wp-content/uploads/2026/01/mladyekonom.jpg
ORGANIZER;CN="Z%C5%A0 Velk%C3%BD O%C5%99echov":MAILTO:info@zsvelkyorechov.cz
END:VEVENT
BEGIN:VEVENT
DTSTART;TZID=Europe/Prague:20260203T120000
DTEND;TZID=Europe/Prague:20260203T140000
DTSTAMP:20260419T172434
CREATED:20260129T192931Z
LAST-MODIFIED:20260129T193543Z
UID:17156-1770120000-1770127200@www.zsvelkyorechov.cz
SUMMARY:Školní kolo Olympiády v anglickém jazyce
DESCRIPTION:
URL:https://www.zsvelkyorechov.cz/akce/skolni-kolo-olympiady-v-anglickem-jazyce/
LOCATION:ZŠ Velký Ořechov
ATTACH;FMTTYPE=image/jpeg:https://www.zsvelkyorechov.cz/wp-content/uploads/2026/01/olympiada-v-anglickem-jazyce.jpg
ORGANIZER;CN="Z%C5%A0 Velk%C3%BD O%C5%99echov":MAILTO:info@zsvelkyorechov.cz
END:VEVENT
BEGIN:VEVENT
DTSTART;TZID=Europe/Prague:20260203T130000
DTEND;TZID=Europe/Prague:20260203T150000
DTSTAMP:20260419T172434
CREATED:20260129T191537Z
LAST-MODIFIED:20260129T191537Z
UID:17145-1770123600-1770130800@www.zsvelkyorechov.cz
SUMMARY:Muzikoterapie
DESCRIPTION:ŠD
URL:https://www.zsvelkyorechov.cz/akce/muzikoterapie-2/
LOCATION:Velký Ořechov
ATTACH;FMTTYPE=image/jpeg:https://www.zsvelkyorechov.cz/wp-content/uploads/2026/01/muzikoterapie.jpeg
ORGANIZER;CN="Z%C5%A0 Velk%C3%BD O%C5%99echov":MAILTO:info@zsvelkyorechov.cz
END:VEVENT
END:VCALENDAR