BEGIN:VCALENDAR
VERSION:2.0
PRODID:-//Základní škola Velký Ořechov - ECPv6.2.4//NONSGML v1.0//EN
CALSCALE:GREGORIAN
METHOD:PUBLISH
X-WR-CALNAME:Základní škola Velký Ořechov
X-ORIGINAL-URL:https://www.zsvelkyorechov.cz
X-WR-CALDESC:Akce na Základní škola Velký Ořechov
REFRESH-INTERVAL;VALUE=DURATION:PT1H
X-Robots-Tag:noindex
X-PUBLISHED-TTL:PT1H
BEGIN:VTIMEZONE
TZID:Europe/Prague
BEGIN:DAYLIGHT
TZOFFSETFROM:+0100
TZOFFSETTO:+0200
TZNAME:CEST
DTSTART:20260329T010000
END:DAYLIGHT
BEGIN:STANDARD
TZOFFSETFROM:+0200
TZOFFSETTO:+0100
TZNAME:CET
DTSTART:20261025T010000
END:STANDARD
END:VTIMEZONE
BEGIN:VEVENT
DTSTART;TZID=Europe/Prague:20260202T080000
DTEND;TZID=Europe/Prague:20260206T170000
DTSTAMP:20260419T172300
CREATED:20251113T143138Z
LAST-MODIFIED:20251113T143138Z
UID:16889-1770019200-1770397200@www.zsvelkyorechov.cz
SUMMARY:Lyžařský výcvikový kurz
DESCRIPTION:7. – 8. ročník
URL:https://www.zsvelkyorechov.cz/akce/lyzarsky-vycvikovy-kurz-5/
LOCATION:Loučná nad Desnou
ATTACH;FMTTYPE=image/jpeg:https://www.zsvelkyorechov.cz/wp-content/uploads/2025/02/LVK-2025-18.jpg
ORGANIZER;CN="Z%C5%A0 Velk%C3%BD O%C5%99echov":MAILTO:info@zsvelkyorechov.cz
END:VEVENT
BEGIN:VEVENT
DTSTART;TZID=Europe/Prague:20260204T080000
DTEND;TZID=Europe/Prague:20260211T170000
DTSTAMP:20260419T172300
CREATED:20260129T193743Z
LAST-MODIFIED:20260129T193743Z
UID:17159-1770192000-1770829200@www.zsvelkyorechov.cz
SUMMARY:Wellbeing ve škole
DESCRIPTION:
URL:https://www.zsvelkyorechov.cz/akce/wellbeing-ve-skole/
LOCATION:ZŠ Velký Ořechov
ATTACH;FMTTYPE=image/png:https://www.zsvelkyorechov.cz/wp-content/uploads/2026/01/welllbeing.png
ORGANIZER;CN="Z%C5%A0 Velk%C3%BD O%C5%99echov":MAILTO:info@zsvelkyorechov.cz
END:VEVENT
BEGIN:VEVENT
DTSTART;TZID=Europe/Prague:20260205T080000
DTEND;TZID=Europe/Prague:20260205T140000
DTSTAMP:20260419T172300
CREATED:20260115T094031Z
LAST-MODIFIED:20260115T094031Z
UID:17098-1770278400-1770300000@www.zsvelkyorechov.cz
SUMMARY:T - Profi
DESCRIPTION:Soutěž pro vybrané žáky 5. ročníku
URL:https://www.zsvelkyorechov.cz/akce/t-profi/
LOCATION:Experimentárium Otrokovice
ATTACH;FMTTYPE=image/jpeg:https://www.zsvelkyorechov.cz/wp-content/uploads/2026/01/T-profi.jpg
ORGANIZER;CN="Z%C5%A0 Velk%C3%BD O%C5%99echov":MAILTO:info@zsvelkyorechov.cz
END:VEVENT
END:VCALENDAR