BEGIN:VCALENDAR
VERSION:2.0
PRODID:-//Základní škola Velký Ořechov - ECPv6.2.4//NONSGML v1.0//EN
CALSCALE:GREGORIAN
METHOD:PUBLISH
X-ORIGINAL-URL:https://www.zsvelkyorechov.cz
X-WR-CALDESC:Akce na Základní škola Velký Ořechov
REFRESH-INTERVAL;VALUE=DURATION:PT1H
X-Robots-Tag:noindex
X-PUBLISHED-TTL:PT1H
BEGIN:VTIMEZONE
TZID:Europe/Prague
BEGIN:DAYLIGHT
TZOFFSETFROM:+0100
TZOFFSETTO:+0200
TZNAME:CEST
DTSTART:20260329T010000
END:DAYLIGHT
BEGIN:STANDARD
TZOFFSETFROM:+0200
TZOFFSETTO:+0100
TZNAME:CET
DTSTART:20261025T010000
END:STANDARD
END:VTIMEZONE
BEGIN:VEVENT
DTSTART;TZID=Europe/Prague:20260216T080000
DTEND;TZID=Europe/Prague:20260313T170000
DTSTAMP:20260419T172706
CREATED:20260115T101704Z
LAST-MODIFIED:20260115T101704Z
UID:17105-1771228800-1773421200@www.zsvelkyorechov.cz
SUMMARY:Pangea - matematická soutěž
DESCRIPTION:
URL:https://www.zsvelkyorechov.cz/akce/pangea-matematicka-soutez-3/
LOCATION:ZŠ Velký Ořechov
ATTACH;FMTTYPE=image/jpeg:https://www.zsvelkyorechov.cz/wp-content/uploads/2025/11/matematikajpg.jpg
ORGANIZER;CN="Z%C5%A0 Velk%C3%BD O%C5%99echov":MAILTO:info@zsvelkyorechov.cz
END:VEVENT
BEGIN:VEVENT
DTSTART;TZID=Europe/Prague:20260218T080000
DTEND;TZID=Europe/Prague:20260218T120000
DTSTAMP:20260419T172706
CREATED:20260115T102358Z
LAST-MODIFIED:20260115T102358Z
UID:17107-1771401600-1771416000@www.zsvelkyorechov.cz
SUMMARY:Škola života
DESCRIPTION:Preventivní program
URL:https://www.zsvelkyorechov.cz/akce/skola-zivota/
LOCATION:ZŠ Velký Ořechov
ATTACH;FMTTYPE=image/jpeg:https://www.zsvelkyorechov.cz/wp-content/uploads/2026/01/Skola-zivotajpg.jpg
ORGANIZER;CN="Z%C5%A0 Velk%C3%BD O%C5%99echov":MAILTO:info@zsvelkyorechov.cz
END:VEVENT
BEGIN:VEVENT
DTSTART;TZID=Europe/Prague:20260218T080000
DTEND;TZID=Europe/Prague:20260218T120000
DTSTAMP:20260419T172706
CREATED:20260130T053014Z
LAST-MODIFIED:20260130T053014Z
UID:17178-1771401600-1771416000@www.zsvelkyorechov.cz
SUMMARY:Okresní kolo Geografické olympiády
DESCRIPTION:výherci školního kola v 6. a 9. ročníku
URL:https://www.zsvelkyorechov.cz/akce/okresni-kolo-geograficke-olympiady/
LOCATION:ZŠ Velký Ořechov
ATTACH;FMTTYPE=image/jpeg:https://www.zsvelkyorechov.cz/wp-content/uploads/2026/01/geograficka-olympiada.jpg
ORGANIZER;CN="Z%C5%A0 Velk%C3%BD O%C5%99echov":MAILTO:info@zsvelkyorechov.cz
END:VEVENT
END:VCALENDAR