BEGIN:VCALENDAR
VERSION:2.0
PRODID:-//Základní škola Velký Ořechov - ECPv6.2.4//NONSGML v1.0//EN
CALSCALE:GREGORIAN
METHOD:PUBLISH
X-ORIGINAL-URL:https://www.zsvelkyorechov.cz
X-WR-CALDESC:Akce na Základní škola Velký Ořechov
REFRESH-INTERVAL;VALUE=DURATION:PT1H
X-Robots-Tag:noindex
X-PUBLISHED-TTL:PT1H
BEGIN:VTIMEZONE
TZID:Europe/Prague
BEGIN:DAYLIGHT
TZOFFSETFROM:+0100
TZOFFSETTO:+0200
TZNAME:CEST
DTSTART:20260329T010000
END:DAYLIGHT
BEGIN:STANDARD
TZOFFSETFROM:+0200
TZOFFSETTO:+0100
TZNAME:CET
DTSTART:20261025T010000
END:STANDARD
END:VTIMEZONE
BEGIN:VEVENT
DTSTART;TZID=Europe/Prague:20260322T080000
DTEND;TZID=Europe/Prague:20260327T170000
DTSTAMP:20260419T155311
CREATED:20251113T143602Z
LAST-MODIFIED:20251113T143602Z
UID:16893-1774166400-1774630800@www.zsvelkyorechov.cz
SUMMARY:Londýn
DESCRIPTION:
URL:https://www.zsvelkyorechov.cz/akce/londyn-2/
LOCATION:Londýn
ATTACH;FMTTYPE=image/jpeg:https://www.zsvelkyorechov.cz/wp-content/uploads/2025/11/Londyn.jpg
ORGANIZER;CN="Z%C5%A0 Velk%C3%BD O%C5%99echov":MAILTO:info@zsvelkyorechov.cz
END:VEVENT
END:VCALENDAR