BEGIN:VCALENDAR
VERSION:2.0
PRODID:-//Základní škola Velký Ořechov - ECPv6.2.4//NONSGML v1.0//EN
CALSCALE:GREGORIAN
METHOD:PUBLISH
X-WR-CALNAME:Základní škola Velký Ořechov
X-ORIGINAL-URL:https://www.zsvelkyorechov.cz
X-WR-CALDESC:Akce na Základní škola Velký Ořechov
REFRESH-INTERVAL;VALUE=DURATION:PT1H
X-Robots-Tag:noindex
X-PUBLISHED-TTL:PT1H
BEGIN:VTIMEZONE
TZID:Europe/Prague
BEGIN:DAYLIGHT
TZOFFSETFROM:+0100
TZOFFSETTO:+0200
TZNAME:CEST
DTSTART:20260329T010000
END:DAYLIGHT
BEGIN:STANDARD
TZOFFSETFROM:+0200
TZOFFSETTO:+0100
TZNAME:CET
DTSTART:20261025T010000
END:STANDARD
END:VTIMEZONE
BEGIN:VEVENT
DTSTART;TZID=Europe/Prague:20260512T080000
DTEND;TZID=Europe/Prague:20260515T170000
DTSTAMP:20260419T152849
CREATED:20260406T125911Z
LAST-MODIFIED:20260406T125911Z
UID:17334-1778572800-1778864400@www.zsvelkyorechov.cz
SUMMARY:Celostátní kolo Geologické olympiády
DESCRIPTION:9. ročník
URL:https://www.zsvelkyorechov.cz/akce/celostatni-kolo-geologicke-olympiady-2/
LOCATION:ZŠ Velký Ořechov
ATTACH;FMTTYPE=image/jpeg:https://www.zsvelkyorechov.cz/wp-content/uploads/2026/01/Geologie_.jpg
ORGANIZER;CN="Z%C5%A0 Velk%C3%BD O%C5%99echov":MAILTO:info@zsvelkyorechov.cz
END:VEVENT
END:VCALENDAR